BEGIN:VCALENDAR
VERSION:2.0
PRODID:-//Drupal iCal API//EN
X-WR-CALNAME:Events Calendar
X-WR-TIMEZONE:America/New_York
BEGIN:VTIMEZONE
TZID:America/New_York
X-LIC-LOCATION:America/New_York
BEGIN:DAYLIGHT
TZNAME:EDT
TZOFFSETFROM:-0500
TZOFFSETTO:-0400
DTSTART:20220313T070000
END:DAYLIGHT
BEGIN:STANDARD
TZNAME:EST
TZOFFSETFROM:-0400
TZOFFSETTO:-0500
DTSTART:20211107T060000
END:STANDARD
END:VTIMEZONE
BEGIN:VEVENT
UID:596732da-9a5a-4224-a2d5-fdb0e8a483a7
DTSTART;TZID=America/New_York:20220421T000000
SEQUENCE:0
TRANSP:TRANSPARENT
DTEND;TZID=America/New_York:20220421T235959
URL:https://nnes.mbmapp.com
LOCATION:Location \nFlagstaff\, AZ 
SUMMARY:5th Annual Navajo Nation Economic Summit 2022
CLASS:PUBLIC
DTSTAMP:20260424T161041Z
END:VEVENT
END:VCALENDAR