BEGIN:VCALENDAR
VERSION:2.0
PRODID:-//Drupal iCal API//EN
X-WR-CALNAME:Events Calendar
X-WR-TIMEZONE:America/New_York
BEGIN:VTIMEZONE
TZID:America/New_York
X-LIC-LOCATION:America/New_York
BEGIN:DAYLIGHT
TZNAME:EDT
TZOFFSETFROM:-0500
TZOFFSETTO:-0400
DTSTART:20210314T070000
END:DAYLIGHT
BEGIN:STANDARD
TZNAME:EST
TZOFFSETFROM:-0400
TZOFFSETTO:-0500
DTSTART:20201101T060000
END:STANDARD
END:VTIMEZONE
BEGIN:VEVENT
UID:3cfa8d44-3acc-4feb-b99f-8ab269070e7e
DTSTART;TZID=America/New_York:20210511T103000
SEQUENCE:0
TRANSP:TRANSPARENT
DTEND;TZID=America/New_York:20210511T170000
URL:https://register.gotowebinar.com/register/232137005928059920
LOCATION:Location \nVirtual Event 
SUMMARY:NPS Great American Outdoors Act (GAOA) Industry Days - Day 1
CLASS:PUBLIC
DESCRIPTION:Description \n\nNew Business Opportunities for Upcoming Great A
 merican Outdoors Act\nProjects\n\nWHY ATTEND?\n\n• Understand where and 
 how you can bid on projects\n\n• Participate in real time question and a
 nswer sessions\n\n• Meet NPS project teams\n\n• Gain information on up
 coming projects\n\nMore details available at:\nhttps://www.nps.gov/article
 s/2021_gaoa_lrf.htm\n 
DTSTAMP:20260424T223453Z
END:VEVENT
END:VCALENDAR