BEGIN:VCALENDAR
VERSION:2.0
PRODID:-//Drupal iCal API//EN
X-WR-CALNAME:Events Calendar
X-WR-TIMEZONE:America/New_York
BEGIN:VTIMEZONE
TZID:America/New_York
X-LIC-LOCATION:America/New_York
BEGIN:DAYLIGHT
TZNAME:EDT
TZOFFSETFROM:-0500
TZOFFSETTO:-0400
DTSTART:20210314T070000
END:DAYLIGHT
BEGIN:STANDARD
TZNAME:EST
TZOFFSETFROM:-0400
TZOFFSETTO:-0500
DTSTART:20201101T060000
END:STANDARD
END:VTIMEZONE
BEGIN:VEVENT
UID:15b5457d-a47f-449b-823e-daa9de1d4758
DTSTART;TZID=America/New_York:20210926T000000
SEQUENCE:0
TRANSP:TRANSPARENT
DTEND;TZID=America/New_York:20210928T000000
URL:http://www.USHCC.com
LOCATION:Location \nTBA 
SUMMARY:42nd Annual National Conference 2021
CLASS:PUBLIC
DTSTAMP:20260425T002905Z
END:VEVENT
END:VCALENDAR