BEGIN:VCALENDAR
VERSION:2.0
PRODID:-//Drupal iCal API//EN
X-WR-CALNAME:Events Calendar
X-WR-TIMEZONE:America/New_York
BEGIN:VTIMEZONE
TZID:America/New_York
X-LIC-LOCATION:America/New_York
BEGIN:DAYLIGHT
TZNAME:EDT
TZOFFSETFROM:-0500
TZOFFSETTO:-0400
DTSTART:20160313T070000
END:DAYLIGHT
BEGIN:STANDARD
TZNAME:EST
TZOFFSETFROM:-0400
TZOFFSETTO:-0500
DTSTART:20151101T060000
END:STANDARD
END:VTIMEZONE
BEGIN:VEVENT
UID:43762fab-a331-4dda-be54-820c2323e42c
DTSTART;TZID=America/New_York:20160616T000000
SEQUENCE:0
TRANSP:TRANSPARENT
DTEND;TZID=America/New_York:20160616T000000
URL:http://www.awib.org/Procurement
LOCATION:Location \nNew York\, NY 
SUMMARY:2016 Asian Women In Business (AWIB) Annual Procurement Conference f
 or\nMinority/Women Business Enterprises
CLASS:PUBLIC
DTSTAMP:20260425T161511Z
END:VEVENT
END:VCALENDAR